BEGIN:VCALENDAR
VERSION:2.0
PRODID:-//Motolight - ECPv6.10.2//NONSGML v1.0//EN
CALSCALE:GREGORIAN
METHOD:PUBLISH
X-WR-CALNAME:Motolight
X-ORIGINAL-URL:https://motolight.com
X-WR-CALDESC:Events for Motolight
REFRESH-INTERVAL;VALUE=DURATION:PT1H
X-Robots-Tag:noindex
X-PUBLISHED-TTL:PT1H
BEGIN:VTIMEZONE
TZID:America/New_York
BEGIN:DAYLIGHT
TZOFFSETFROM:-0500
TZOFFSETTO:-0400
TZNAME:EDT
DTSTART:20180311T070000
END:DAYLIGHT
BEGIN:STANDARD
TZOFFSETFROM:-0400
TZOFFSETTO:-0500
TZNAME:EST
DTSTART:20181104T060000
END:STANDARD
BEGIN:DAYLIGHT
TZOFFSETFROM:-0500
TZOFFSETTO:-0400
TZNAME:EDT
DTSTART:20190310T070000
END:DAYLIGHT
BEGIN:STANDARD
TZOFFSETFROM:-0400
TZOFFSETTO:-0500
TZNAME:EST
DTSTART:20191103T060000
END:STANDARD
BEGIN:DAYLIGHT
TZOFFSETFROM:-0500
TZOFFSETTO:-0400
TZNAME:EDT
DTSTART:20200308T070000
END:DAYLIGHT
BEGIN:STANDARD
TZOFFSETFROM:-0400
TZOFFSETTO:-0500
TZNAME:EST
DTSTART:20201101T060000
END:STANDARD
BEGIN:DAYLIGHT
TZOFFSETFROM:-0500
TZOFFSETTO:-0400
TZNAME:EDT
DTSTART:20210314T070000
END:DAYLIGHT
BEGIN:STANDARD
TZOFFSETFROM:-0400
TZOFFSETTO:-0500
TZNAME:EST
DTSTART:20211107T060000
END:STANDARD
BEGIN:DAYLIGHT
TZOFFSETFROM:-0500
TZOFFSETTO:-0400
TZNAME:EDT
DTSTART:20220313T070000
END:DAYLIGHT
BEGIN:STANDARD
TZOFFSETFROM:-0400
TZOFFSETTO:-0500
TZNAME:EST
DTSTART:20221106T060000
END:STANDARD
END:VTIMEZONE
BEGIN:VTIMEZONE
TZID:America/Chicago
BEGIN:DAYLIGHT
TZOFFSETFROM:-0600
TZOFFSETTO:-0500
TZNAME:CDT
DTSTART:20190310T080000
END:DAYLIGHT
BEGIN:STANDARD
TZOFFSETFROM:-0500
TZOFFSETTO:-0600
TZNAME:CST
DTSTART:20191103T070000
END:STANDARD
END:VTIMEZONE
BEGIN:VEVENT
DTSTART;TZID=America/New_York:20220224T080000
DTEND;TZID=America/New_York:20220226T170000
DTSTAMP:20260421T072349
CREATED:20220301T023556Z
LAST-MODIFIED:20220301T023556Z
UID:13726-1645689600-1645894800@motolight.com
SUMMARY:Bruce Rossmeyer’s Daytona Harley Davidson Civilian Skills Challenge
DESCRIPTION:Facebook
URL:https://motolight.com/event/bruce-rossmeyers-daytona-harley-davidson-civilian-skills-challenge/
LOCATION:Bruce Rossmeyer’s Daytona Harley-Davidson\, 1637 N US Highway 1\, Ormond Beach\, FL\, 32174\, United States
CATEGORIES:Civilian Technical Skills
END:VEVENT
BEGIN:VEVENT
DTSTART;TZID=America/New_York:20211112T080000
DTEND;TZID=America/New_York:20211113T170000
DTSTAMP:20260421T072349
CREATED:20210811T194048Z
LAST-MODIFIED:20210811T194640Z
UID:13608-1636704000-1636822800@motolight.com
SUMMARY:Desert Wind Harley-Davidson Skills Competition
DESCRIPTION:Desert Wind Harley-Davidson Skills Competition
URL:https://motolight.com/event/desert-wind-harley-davidson-skills-competition/
LOCATION:Desert Wind Harley-Davidson\, 922 S. Country Club Dr.\, Mesa\, AZ\, 85210\, United States
CATEGORIES:Civilian Technical Skills,Motolight in Attendance,Police Motorcycle Skills,Police Motorcycle Training
END:VEVENT
BEGIN:VEVENT
DTSTART;TZID=America/New_York:20210827T080000
DTEND;TZID=America/New_York:20210829T170000
DTSTAMP:20260421T072349
CREATED:20210817T184539Z
LAST-MODIFIED:20210817T184539Z
UID:13613-1630051200-1630256400@motolight.com
SUMMARY:Northeast Motorcycle Skills Training and Challenge Event
DESCRIPTION:Northeast Motorcycle Skills Training and Challenge Event \n \n 
URL:https://motolight.com/event/northeast-motorcycle-skills-training-and-challenge-event-2/
LOCATION:Wilkins Harley-Davidson\, 663 S. Barre Road\, Barre\, VT\, 05641\, United States
CATEGORIES:Civilian Technical Skills,Motolight in Attendance,Police Motorcycle Skills,Police Motorcycle Training
END:VEVENT
BEGIN:VEVENT
DTSTART;TZID=America/New_York:20210827T080000
DTEND;TZID=America/New_York:20210829T170000
DTSTAMP:20260421T072349
CREATED:20210608T151558Z
LAST-MODIFIED:20210608T151558Z
UID:13541-1630051200-1630256400@motolight.com
SUMMARY:Northeast Motorcycle Skills Training and Challenge Event
DESCRIPTION:Northeast Motorcycle Skills Training and Challenge Event  \nFlyer
URL:https://motolight.com/event/northeast-motorcycle-skills-training-and-challenge-event/
LOCATION:Wilkins Harley-Davidson\, 663 S. Barre Road\, Barre\, VT\, 05641\, United States
CATEGORIES:Civilian Technical Skills,Police Motorcycle Skills,Police Motorcycle Training
END:VEVENT
BEGIN:VEVENT
DTSTART;TZID=America/New_York:20210624T080000
DTEND;TZID=America/New_York:20210626T170000
DTSTAMP:20260421T072349
CREATED:20210608T145231Z
LAST-MODIFIED:20210608T145256Z
UID:13530-1624521600-1624726800@motolight.com
SUMMARY:North Jersey Motorcycle Training and Skills Competition
DESCRIPTION:North Jersey Motorcycle Training and Skills Competition  \nFacebook
URL:https://motolight.com/event/north-jersey-motorcycle-training-and-skills-competition/
LOCATION:Garden State Plaza Mall\, One Garden State Plaza\, Paramus\, NJ\, 07652\, United States
CATEGORIES:Civilian Technical Skills,Police Motorcycle Skills,Police Motorcycle Training
END:VEVENT
BEGIN:VEVENT
DTSTART;TZID=America/New_York:20210604T080000
DTEND;TZID=America/New_York:20210606T170000
DTSTAMP:20260421T072349
CREATED:20210608T143345Z
LAST-MODIFIED:20210608T144228Z
UID:13522-1622793600-1622998800@motolight.com
SUMMARY:Motorcycle Skills Training and Challenge
DESCRIPTION:Motorcycle Skills Training and Challenge \nFacebook \n \n 
URL:https://motolight.com/event/motorcycle-skills-training-and-challenge/
LOCATION:Habersham County Fairgrounds\, 4235 Toccoa Hwy\, Clarksville\, GA\, 30523\, United States
CATEGORIES:Civilian Technical Skills,Police Motorcycle Skills,Police Motorcycle Training
END:VEVENT
BEGIN:VEVENT
DTSTART;TZID=America/New_York:20210520T080000
DTEND;TZID=America/New_York:20210522T170000
DTSTAMP:20260421T072349
CREATED:20210608T141229Z
LAST-MODIFIED:20210608T141816Z
UID:13518-1621497600-1621702800@motolight.com
SUMMARY:Thunder In The Heartland For Police Officers and Civilians
DESCRIPTION:Thunder In The Heartland For Police Officers and Civilians \nContact Vannen “Rusty” Crabtree Jr. at (641) 233-8435 or ru***@ri************.com
URL:https://motolight.com/event/thunder-in-the-heartland-for-police-officers-and-civilians/
LOCATION:FL
CATEGORIES:Civilian Technical Skills,Police Motorcycle Skills
END:VEVENT
BEGIN:VEVENT
DTSTART;TZID=America/New_York:20210512T080000
DTEND;TZID=America/New_York:20210514T170000
DTSTAMP:20260421T072349
CREATED:20210608T144200Z
LAST-MODIFIED:20210608T144200Z
UID:13513-1620806400-1621011600@motolight.com
SUMMARY:Emerald Coast Motorcycle Challenge
DESCRIPTION:Emerald Coast Motorcycle Challenge \nFacebook
URL:https://motolight.com/event/emerald-coast-motorcycle-challenge-4/
LOCATION:The Boardwalk\, 1450 Miracle Strip Pkwy SE\, Fort Walton Beach\, FL\, 32548\, United States
CATEGORIES:Civilian Technical Skills,Motolight in Attendance,Police Motorcycle Skills,Police Motorcycle Training
END:VEVENT
BEGIN:VEVENT
DTSTART;VALUE=DATE:20210512
DTEND;VALUE=DATE:20210515
DTSTAMP:20260421T072349
CREATED:20210608T140440Z
LAST-MODIFIED:20210608T140947Z
UID:13514-1620777600-1621036799@motolight.com
SUMMARY:Emerald Coast Motorcycle Challenge
DESCRIPTION:Emerald Coast Motorcycle Challenge \nFacebook
URL:https://motolight.com/event/emerald-coast-motorcycle-challenge-3/
LOCATION:The Boardwalk\, 1450 Miracle Strip Pkwy SE\, Fort Walton Beach\, FL\, 32548\, United States
CATEGORIES:Civilian Technical Skills,Motolight in Attendance,Police Motorcycle Skills,Police Motorcycle Training
END:VEVENT
BEGIN:VEVENT
DTSTART;VALUE=DATE:20210225
DTEND;VALUE=DATE:20210228
DTSTAMP:20260421T072349
CREATED:20200609T012051Z
LAST-MODIFIED:20200609T012051Z
UID:13247-1614211200-1614470399@motolight.com
SUMMARY:Daytona Harley-Davidson Civilian Motorcycle Skills Competition
DESCRIPTION:Daytona Harley-Davidson Civilian Motorcycle Skills Competition \nFacebook \n \n  \n  \n  \n  \n  \n  \n  \n  \n  \n \n 
URL:https://motolight.com/event/daytona-harley-davidson-civilian-motorcycle-skills-competition/
LOCATION:Bruce Rossmeyer’s Daytona Harley-Davidson\, 1637 N US Highway 1\, Ormond Beach\, FL\, 32174\, United States
CATEGORIES:Civilian Technical Skills,Motolight in Attendance
END:VEVENT
BEGIN:VEVENT
DTSTART;VALUE=DATE:20201008
DTEND;VALUE=DATE:20201011
DTSTAMP:20260421T072349
CREATED:20200903T152047Z
LAST-MODIFIED:20200903T172108Z
UID:13325-1602115200-1602374399@motolight.com
SUMMARY:Keystone State Motorcycle Skills Safety Seminar and Competition
DESCRIPTION:Keystone State Motorcycle Skills Safety Seminar and Competition \nRegister\nFacebook \n \n  \n  \n 
URL:https://motolight.com/event/keystone-state-motorcycle-skills-safety-seminar-and-competition/
LOCATION:Battlefield Harley Davidson\, 21 Cavalry Field Road\, Gettysburg\, PA\, 17325\, United States
CATEGORIES:Civilian Technical Skills,Motolight in Attendance,Police Motorcycle Skills
END:VEVENT
BEGIN:VEVENT
DTSTART;VALUE=DATE:20200814
DTEND;VALUE=DATE:20200816
DTSTAMP:20260421T072349
CREATED:20200810T192710Z
LAST-MODIFIED:20200810T192710Z
UID:13313-1597363200-1597535999@motolight.com
SUMMARY:Ride Like a Pro Civilian and Law Enforcement Motorcycle Skills Training & Challeng
DESCRIPTION:Ride Like a Pro Civilian and Law Enforcement Motorcycle Skills Training & Challenge \nMotorcycle Skills Training & Challenge Benefit: Pediatric Brain Tumor Foundation. Host: Ride Like A Pro. Open to Police & Civilian riders. \nThis event will bring together experienced civilian riders on all types of street legal motorcycles in a competitive environment to navigate through various cone patterns. Competitors will attempt to ride through these challenging cone patterns without knocking over or touching cones. These courses are designed to push the limits of every motorcycle rider’s capabilities. \n \n  \n 
URL:https://motolight.com/event/ride-like-a-pro-civilian-and-law-enforcement-motorcycle-skills-training-challeng/
LOCATION:City of Clarkesville\, 443 Madison Street\, Clarkesville\, GA\, 30523\, United States
CATEGORIES:Civilian Technical Skills,Motolight in Attendance,Police Motorcycle Skills,Police Motorcycle Training
END:VEVENT
BEGIN:VEVENT
DTSTART;VALUE=DATE:20200626
DTEND;VALUE=DATE:20200629
DTSTAMP:20260421T072349
CREATED:20200609T010930Z
LAST-MODIFIED:20200609T010930Z
UID:13242-1593129600-1593388799@motolight.com
SUMMARY:Lock & Lean Street Motorcycle Safety Seminar & Competition 2020
DESCRIPTION:Lock & Lean Street Motorcycle Safety Seminar & Competition 2020 \nFacebook \n \n  \n  \n  \n  \n  \n 
URL:https://motolight.com/event/lock-lean-street-motorcycle-safety-seminar-competition-2020/
LOCATION:Rockford Rivets Baseball Stadium\, Stadium 4503 Interstate Blvd.\, Loves Park\, IL\, United States
CATEGORIES:Civilian Technical Skills,Motolight in Attendance,Police Motorcycle Skills,Police Motorcycle Training
END:VEVENT
BEGIN:VEVENT
DTSTART;TZID=America/New_York:20200308T080000
DTEND;TZID=America/New_York:20200313T170000
DTSTAMP:20260421T072349
CREATED:20200225T162647Z
LAST-MODIFIED:20200225T162824Z
UID:13159-1583654400-1584118800@motolight.com
SUMMARY:Leather & Lace MC Pike Rodeo & Events
DESCRIPTION:Leather & Lace MC Pike Rodeo & Events \n 
URL:https://motolight.com/event/leather-lace-mc-pike-rodeo-events/
LOCATION:Angels Landing\, 574 W. Ariel Road\, Edgewater\, FL\, 32141\, United States
CATEGORIES:Civilian Technical Skills
END:VEVENT
BEGIN:VEVENT
DTSTART;TZID=America/New_York:20191010T080000
DTEND;TZID=America/New_York:20191012T170000
DTSTAMP:20260421T072349
CREATED:20190311T145605Z
LAST-MODIFIED:20190914T182512Z
UID:12850-1570694400-1570899600@motolight.com
SUMMARY:Keystone State Motorcycle Skills
DESCRIPTION:Keystone State Motorcycle Skills \nClick here for Facebook page. \nCheck out the Keystone State Motorcycle Skills event being held October 10-12th\, 2019 and see Motolight motorcycle lights up close. See for yourself the visibility difference they can make on your motorcycle. See\, Be Seen and Be Safe with Motolight! \nWe are proudly an official sponsor! \n \n  \n  \n  \n 
URL:https://motolight.com/event/keystone-state-motorcycle-skills/
LOCATION:Battlefield Harley Davidson\, 21 Cavalry Field Road\, Gettysburg\, PA\, 17325\, United States
CATEGORIES:Civilian Technical Skills,Motolight in Attendance,Police Motorcycle Skills
END:VEVENT
BEGIN:VEVENT
DTSTART;TZID=America/New_York:20190628T080000
DTEND;TZID=America/New_York:20190630T170000
DTSTAMP:20260421T072349
CREATED:20181130T171934Z
LAST-MODIFIED:20190421T023929Z
UID:12772-1561708800-1561914000@motolight.com
SUMMARY:Lock and Lean Precision Motorcycle Riding\, Street Motorcycle Skills Seminar & Competition 2019
DESCRIPTION:Lock and Lean Precision Motorcycle Riding\, Street Motorcycle Skills Seminar & Competition 2019 \nCheck out the Lock and Lean Precision Motorcycle Riding\, Street Motorcycle Skills Seminar & Competition 2019 being held June 28-30\, 2019 and see Motolight motorcycle lights up close. See for yourself the visibility difference they can make on your motorcycle. See\, Be Seen and Be Safe with Motolight! \nVisit Facebook Page
URL:https://motolight.com/event/lock-and-lean-precision-motorcycle-riding-street-motorcycle-skills-seminar-competition-2019/
LOCATION:Rockford Rivets Baseball Stadium\, Stadium 4503 Interstate Blvd.\, Loves Park\, IL\, United States
CATEGORIES:Civilian Technical Skills,Motolight in Attendance
END:VEVENT
BEGIN:VEVENT
DTSTART;TZID=America/Chicago:20190509T080000
DTEND;TZID=America/Chicago:20190511T170000
DTSTAMP:20260421T072349
CREATED:20190421T021043Z
LAST-MODIFIED:20190421T021043Z
UID:12918-1557388800-1557594000@motolight.com
SUMMARY:Police and Civilian Advanced Motorcycle Skills Event - WORTH Harley-Davidson
DESCRIPTION:Police and Civilian Advanced Motorcycle Skills Event – WORTH Harley-Davidson \nCheck out the Police and Civilian Advanced Motorcycle Skills Event being held May 9-11\, 2019 at Worth Harley-Davidson\, and see Motolight motorcycle lights up close. See for yourself the visibility difference they can make on your motorcycle. See\, Be Seen and Be Safe with Motolight!
URL:https://motolight.com/event/police-and-civilian-advanced-motorcycle-skills-event-worth-harley-davidson/
LOCATION:Worth Harley-Davidson\, 9400 NW Prarie View Rd.\, Kansas City\, MO\, 64153\, United States
CATEGORIES:Civilian Technical Skills,Motolight in Attendance,Police Motorcycle Skills
END:VEVENT
BEGIN:VEVENT
DTSTART;TZID=America/New_York:20181011T070000
DTEND;TZID=America/New_York:20181013T120000
DTSTAMP:20260421T072349
CREATED:20180916T191829Z
LAST-MODIFIED:20180916T191829Z
UID:12582-1539241200-1539432000@motolight.com
SUMMARY:2nd Annual "SMART" Civilian Motorcycle Skills Challenge
DESCRIPTION:2nd Annual “SMART” Civilian Motorcycle Skills Challenge \nGet tickets here. \n \n 
URL:https://motolight.com/event/2nd-annual-smart-civilian-motorcycle-skills-challenge/
LOCATION:Osceola Technical College\, 501 Simpson Road\, Kissimmee\, FL\, 34744\, United States
CATEGORIES:Civilian Technical Skills,Motolight in Attendance
END:VEVENT
BEGIN:VEVENT
DTSTART;TZID=America/New_York:20180922T090000
DTEND;TZID=America/New_York:20180922T103000
DTSTAMP:20260421T072349
CREATED:20180916T192410Z
LAST-MODIFIED:20180916T192547Z
UID:12585-1537606800-1537612200@motolight.com
SUMMARY:Civilian Motorcycle Skills Challenge
DESCRIPTION:Civilian Motorcycle Skills Challenge \nClick here for Facebook page.
URL:https://motolight.com/event/civilian-motorcycle-skills-challenge/
LOCATION:Worth Harley-Davidson\, 9400 NW Prarie View Rd.\, Kansas City\, MO\, 64153\, United States
CATEGORIES:Civilian Technical Skills,Motolight in Attendance
END:VEVENT
BEGIN:VEVENT
DTSTART;TZID=America/New_York:20180825T083000
DTEND;TZID=America/New_York:20180825T083000
DTSTAMP:20260421T072349
CREATED:20180719T195055Z
LAST-MODIFIED:20180719T195055Z
UID:12546-1535185800-1535185800@motolight.com
SUMMARY:Razor Performance Riding Technical Skills
DESCRIPTION:
URL:https://motolight.com/event/razor-performance-riding-technical-skills/
LOCATION:Razor Performance Riding\, 3079 North Jefferson Street\, Monticello\, FL\, 32344\, United States
CATEGORIES:Civilian Technical Skills,Motolight in Attendance
END:VEVENT
END:VCALENDAR